BEGIN:VCALENDAR
VERSION:2.0
PRODID:-//OHMA - Ontario Homeopathic Medical Association - ECPv6.15.20//NONSGML v1.0//EN
CALSCALE:GREGORIAN
METHOD:PUBLISH
X-WR-CALNAME:OHMA - Ontario Homeopathic Medical Association
X-ORIGINAL-URL:https://ohma.info
X-WR-CALDESC:Events for OHMA - Ontario Homeopathic Medical Association
REFRESH-INTERVAL;VALUE=DURATION:PT1H
X-Robots-Tag:noindex
X-PUBLISHED-TTL:PT1H
BEGIN:VTIMEZONE
TZID:America/Toronto
BEGIN:DAYLIGHT
TZOFFSETFROM:-0500
TZOFFSETTO:-0400
TZNAME:EDT
DTSTART:20250309T070000
END:DAYLIGHT
BEGIN:STANDARD
TZOFFSETFROM:-0400
TZOFFSETTO:-0500
TZNAME:EST
DTSTART:20251102T060000
END:STANDARD
BEGIN:DAYLIGHT
TZOFFSETFROM:-0500
TZOFFSETTO:-0400
TZNAME:EDT
DTSTART:20260308T070000
END:DAYLIGHT
BEGIN:STANDARD
TZOFFSETFROM:-0400
TZOFFSETTO:-0500
TZNAME:EST
DTSTART:20261101T060000
END:STANDARD
BEGIN:DAYLIGHT
TZOFFSETFROM:-0500
TZOFFSETTO:-0400
TZNAME:EDT
DTSTART:20270314T070000
END:DAYLIGHT
BEGIN:STANDARD
TZOFFSETFROM:-0400
TZOFFSETTO:-0500
TZNAME:EST
DTSTART:20271107T060000
END:STANDARD
END:VTIMEZONE
BEGIN:VEVENT
DTSTART;TZID=America/Toronto:20260829T090000
DTEND;TZID=America/Toronto:20260830T170000
DTSTAMP:20260419T154450
CREATED:20251021T190050Z
LAST-MODIFIED:20260228T151937Z
UID:4383-1787994000-1788109200@ohma.info
SUMMARY:Out of the Box - August
DESCRIPTION:OUT OF THE BOX HOMEOPATHIC PRESCRIPTIONS\n2-day Seminar\nAugust 29-30\, 2026\n9:00 am to 5:00 pm each day\nPresenter: Dr. Gaurang Gaikwad\nWhat to do When Well-Selected Remedies Fail in Complex Cases? Learning from Failed Cases. \nThis seminar will take place at the University of Toronto\, Mississauga Campus\, William G. Davis Building. It will give special focus to complex cases – emergency acute cases\, women’s hormonal health\, dermatological cases\, pediatric cases and more. Attend the 2-day seminar or get a one day pass. This seminar will earn credits. \nTo obtain your ticket below\, please click on the + sign and then the “Get Tickets” button.\nPayment options are Credit Card or PayPal.\nEarly Bird Tickets are available until July 15th at $250 for OHMA Members and $375 for Non-Members.\nAfter July 15th the Regular Admission Tickets for OHMA Members are $300 and $425 for Non-Members.\nThere is no Early Bird pricing for students\, tickets remain at the same low price. \nWOULD YOU LIKE TO JOIN THE OHMA PRIOR TO THE SEMINAR?
URL:https://ohma.info/event/out-of-the-box-august/
LOCATION:University of Toronto – Mississauga Campus\, 1867 Inner Circle Road\, Mississauga\, Ontario\, L5L 1C6\, Canada
CATEGORIES:Events
ATTACH;FMTTYPE=image/jpeg:https://ohma.info/wp-content/uploads/2025/10/May-26-Event-New.jpg
END:VEVENT
END:VCALENDAR